BEGIN:VCALENDAR
VERSION:2.0
CALSCALE:GREGORIAN
PRODID:-//Diputació de Barcelona//DibaCMS//EN
BEGIN:VEVENT
UID:53845
DTSTAMP:20260426T051310
DTSTART:20180422T163000
DTEND:20180422T163000
SUMMARY:CALEBRACIÓ DE SANT JORDI al Casal de la Gent Gran
LOCATION:C/ Ramon i Cajal - (cantonada Av. Granollers) 08450 Llinars del Vallés
METHOD:PUBLISH
X-WR-CALNAME:info@llinarsdelvalles.cat
X-WR-TIMEZONE:Europe/Madrid
DESCRIPTION:A la Sala polivalent del Casal de la Gent Gran
URI:https://www.llinarsdelvalles.cat/actualitat/agenda/calebracio-de-sant-jordi-al-casal-de-la-gent-gran.html
CLASS:PUBLIC
END:VEVENT
END:VCALENDAR
