BEGIN:VCALENDAR
VERSION:2.0
CALSCALE:GREGORIAN
PRODID:-//Diputació de Barcelona//DibaCMS//EN
BEGIN:VEVENT
UID:53846
DTSTAMP:20260426T041648
DTSTART:20180423T200000
DTEND:20180423T200000
SUMMARY:CONCERT CORAL de Sant Jordi a càrrec de la Coral Turó del Vent
LOCATION:Av. Pau Casals, 26 08450 Llinars del Vallès
METHOD:PUBLISH
X-WR-CALNAME:info@llinarsdelvalles.cat
X-WR-TIMEZONE:Europe/Madrid
DESCRIPTION:A la Biblioteca
URI:https://www.llinarsdelvalles.cat/actualitat/agenda/concert-coral-de-sant-jordi-a-carrec-de-la-coral-turo-del-vent.html
CLASS:PUBLIC
END:VEVENT
END:VCALENDAR
