BEGIN:VCALENDAR
VERSION:2.0
CALSCALE:GREGORIAN
PRODID:-//Diputació de Barcelona//DibaCMS//EN
BEGIN:VEVENT
UID:53847
DTSTAMP:20260426T052523
DTSTART:20180427T110000
DTEND:20180427T110000
SUMMARY:Comença la 7a SETMANA DEL "PINTXO"
LOCATION:
METHOD:PUBLISH
X-WR-CALNAME:info@llinarsdelvalles.cat
X-WR-TIMEZONE:Europe/Madrid
DESCRIPTION:Del 27 d'abril al 6 de maig
URI:https://www.llinarsdelvalles.cat/actualitat/agenda/7a-setmana-del-pintxo.html
CLASS:PUBLIC
END:VEVENT
END:VCALENDAR
