BEGIN:VCALENDAR
VERSION:2.0
CALSCALE:GREGORIAN
PRODID:-//DiputaciÃ³ de Barcelona//DibaCMS//EN
BEGIN:VEVENT
UID:53855
DTSTAMP:20260426T024001
DTSTART:20180421T110000
DTEND:20180421T110000
SUMMARY:LECTURA DE POESIA per Sant Jordi, a l'Espai Ruscalleda Art
LOCATION:Espai Ruscalleda Art
C/ Major, 32, 1r 1a
Llinars del Vallès

Horari:
Dissabte, 21 d'abril d'11 a 14 h i de 17 a 20 h
Diumenge, 22 d'abril d'11 a 14 h

Tels: 659 659 262  /  647 466 673 
METHOD:PUBLISH
X-WR-CALNAME:info@llinarsdelvalles.cat
X-WR-TIMEZONE:Europe/Madrid
DESCRIPTION:Celebrem Sant Jordi!Vine a llegir poesia i et regalem una delicada rosa Espai Ruscalleda Art.Els dies 21 i 22 d'abril.T'esperem!!
URI:https://www.llinarsdelvalles.cat/actualitat/agenda/2018-04-21-lectura-de-poesia-per-sant-jordi-a-lespai-ruscalleda-art.html
CLASS:PUBLIC
END:VEVENT
END:VCALENDAR
