BEGIN:VCALENDAR
VERSION:2.0
CALSCALE:GREGORIAN
PRODID:-//Diputació de Barcelona//DibaCMS//EN
BEGIN:VEVENT
UID:53859
DTSTAMP:20260426T040919
DTSTART:20180426T190000
DTEND:20180426T190000
SUMMARY:EL CLUB DEL LLIBRE.Víctor del Árbol
LOCATION:Ronda Sant Antoni, 19 08450 Llinars del Vallès
METHOD:PUBLISH
X-WR-CALNAME:info@llinarsdelvalles.cat
X-WR-TIMEZONE:Europe/Madrid
DESCRIPTION:Al Teatre Auditori.
Trobada dels clubs de lectura del Vallès Oriental.
Obert a tothom.
URI:https://www.llinarsdelvalles.cat/actualitat/agenda/el-club-del-llibrevictor-del-arbol.html
CLASS:PUBLIC
END:VEVENT
END:VCALENDAR
