BEGIN:VCALENDAR
VERSION:2.0
CALSCALE:GREGORIAN
PRODID:-//Diputació de Barcelona//DibaCMS//EN
BEGIN:VEVENT
UID:53862
DTSTAMP:20260426T041527
DTSTART:20180427T174500
DTEND:20180427T174500
SUMMARY:LLIURAMENT DE PREMIS del concurs de punts de llibre de Sant Jordi
LOCATION:Av. Pau Casals, 26 08450 Llinars del Vallès
METHOD:PUBLISH
X-WR-CALNAME:info@llinarsdelvalles.cat
X-WR-TIMEZONE:Europe/Madrid
DESCRIPTION:Al vestíbul de la Biblioteca
URI:https://www.llinarsdelvalles.cat/actualitat/agenda/2018-04-27-lliurament-de-premis-del-concurs-de-punts-de-llibre-de-sant-jordi.html
CLASS:PUBLIC
END:VEVENT
END:VCALENDAR
