BEGIN:VCALENDAR
VERSION:2.0
CALSCALE:GREGORIAN
PRODID:-//Diputació de Barcelona//DibaCMS//EN
BEGIN:VEVENT
UID:53863
DTSTAMP:20260426T041451
DTSTART:20180427T180000
DTEND:20180427T180000
SUMMARY:L'HORA DEL CONTE "Princeses, dracs, cargols i altres animalons" a càrrec de la CIA Patawa
LOCATION:Av. Pau Casals, 26 08450 Llinars del Vallès
METHOD:PUBLISH
X-WR-CALNAME:info@llinarsdelvalles.cat
X-WR-TIMEZONE:Europe/Madrid
DESCRIPTION:A la Biblioteca.
URI:https://www.llinarsdelvalles.cat/actualitat/agenda/lhora-del-conte-princeses-dracs-cargols-i-altres-animalons-a-carrec-de-la-cia-patawa.html
CLASS:PUBLIC
END:VEVENT
END:VCALENDAR
