BEGIN:VCALENDAR
VERSION:2.0
CALSCALE:GREGORIAN
PRODID:-//Diputació de Barcelona//DibaCMS//EN
BEGIN:VEVENT
UID:53866
DTSTAMP:20260426T025408
DTSTART:20180428T113000
DTEND:20180428T113000
SUMMARY:L'HORA DELS NADONS "Petits animals especials" a càrrec de Susagna Navó
LOCATION:Av. Pau Casals, 26 08450 Llinars del Vallès
METHOD:PUBLISH
X-WR-CALNAME:info@llinarsdelvalles.cat
X-WR-TIMEZONE:Europe/Madrid
DESCRIPTION:A la Biblioteca
URI:https://www.llinarsdelvalles.cat/actualitat/agenda/2018-04-28-lhora-dels-nadons-petits-animals-especials-a-carrec-de-susagna-navo.html
CLASS:PUBLIC
END:VEVENT
END:VCALENDAR
