BEGIN:VCALENDAR
VERSION:2.0
CALSCALE:GREGORIAN
PRODID:-//Diputació de Barcelona//DibaCMS//EN
BEGIN:VEVENT
UID:53867
DTSTAMP:20260426T035900
DTSTART:20180430T190000
DTEND:20180430T190000
SUMMARY:LLEGIR EL TEATRE "La importànica de ser Frank" d'Oscar Wilde a càrrec de Marta Esmarats
LOCATION:Av. Pau Casals, 26 08450 Llinars del Vallès
METHOD:PUBLISH
X-WR-CALNAME:info@llinarsdelvalles.cat
X-WR-TIMEZONE:Europe/Madrid
DESCRIPTION:A la Biblioteca
URI:https://www.llinarsdelvalles.cat/actualitat/agenda/2018-04-27-.html
CLASS:PUBLIC
END:VEVENT
END:VCALENDAR
