BEGIN:VCALENDAR
VERSION:2.0
CALSCALE:GREGORIAN
PRODID:-//Diputació de Barcelona//DibaCMS//EN
BEGIN:VEVENT
UID:53868
DTSTAMP:20260426T040655
DTSTART:20180503T190000
DTEND:20180503T190000
SUMMARY:XERRADA "Refugiats, per què? a càrrec de Fundipau
LOCATION:
METHOD:PUBLISH
X-WR-CALNAME:info@llinarsdelvalles.cat
X-WR-TIMEZONE:Europe/Madrid
DESCRIPTION:A Can Lletres
Xerrada oberta a tothom!!
No et perdis aquesta xerrada a càrrec de Jordi Armadans, director de Fundipau, sobre la problemàtica que estan patint els refugiats actualment, una de les problemàtiques més greus del món avui en dia.
URI:https://www.llinarsdelvalles.cat/actualitat/agenda/2018-05-03-xerrada-refugiats-per-que-a-carrec-de-fundipau.html
CLASS:PUBLIC
END:VEVENT
END:VCALENDAR
