BEGIN:VCALENDAR
VERSION:2.0
CALSCALE:GREGORIAN
PRODID:-//Diputació de Barcelona//DibaCMS//EN
BEGIN:VEVENT
UID:53869
DTSTAMP:20260426T035447
DTSTART:20180504T190000
DTEND:20180504T190000
SUMMARY:CAPSULES TIC "Fes lloc al teu mòbil: optimitza l'emmagatzematge"
LOCATION:Av. Pau Casals, 26 08450 Llinars del Vallès
METHOD:PUBLISH
X-WR-CALNAME:info@llinarsdelvalles.cat
X-WR-TIMEZONE:Europe/Madrid
DESCRIPTION:A la Biblioteca
URI:https://www.llinarsdelvalles.cat/actualitat/agenda/capsules-tic-fes-lloc-al-teu-mobil-optimitza-lemmagatzematge.html
CLASS:PUBLIC
END:VEVENT
END:VCALENDAR
