BEGIN:VCALENDAR
VERSION:2.0
CALSCALE:GREGORIAN
PRODID:-//Diputació de Barcelona//DibaCMS//EN
BEGIN:VEVENT
UID:53870
DTSTAMP:20260426T041800
DTSTART:20180505T200000
DTEND:20180505T200000
SUMMARY:TEATRE "Sol solet" 
LOCATION:Ronda Sant Antoni, 19 08450 Llinars del Vallès
METHOD:PUBLISH
X-WR-CALNAME:info@llinarsdelvalles.cat
X-WR-TIMEZONE:Europe/Madrid
DESCRIPTION:A la Sala gran del TA
URI:https://www.llinarsdelvalles.cat/actualitat/agenda/2018-05-05-teatre-sol-solet-.html
CLASS:PUBLIC
END:VEVENT
END:VCALENDAR
