BEGIN:VCALENDAR
VERSION:2.0
CALSCALE:GREGORIAN
PRODID:-//Diputació de Barcelona//DibaCMS//EN
BEGIN:VEVENT
UID:53871
DTSTAMP:20260426T053510
DTSTART:20180504T180000
DTEND:20180504T180000
SUMMARY:REUNIONS INFORMATIVES del Casal d'Estiu 2018
LOCATION:C/ Josep Argila, 39 08450 Llinars del Vallés
METHOD:PUBLISH
X-WR-CALNAME:info@llinarsdelvalles.cat
X-WR-TIMEZONE:Europe/Madrid
DESCRIPTION:A Can Lletres
18 h Casalet (de p3 a p5)
19 h Casal (primària)
20 h Estiu Jove (ESO)
URI:https://www.llinarsdelvalles.cat/actualitat/agenda/reunions-informatives-del-casal-destiu-040518.html
CLASS:PUBLIC
END:VEVENT
END:VCALENDAR
