BEGIN:VCALENDAR
VERSION:2.0
CALSCALE:GREGORIAN
PRODID:-//Diputació de Barcelona//DibaCMS//EN
BEGIN:VEVENT
UID:53872
DTSTAMP:20260426T025353
DTSTART:20180506T110000
DTEND:20180506T110000
SUMMARY:REUNIONS INFORMATIVES del Casal d'Estiu 2018
LOCATION:C/ Josep Argila, 39 08450 Llinars del Vallés
METHOD:PUBLISH
X-WR-CALNAME:info@llinarsdelvalles.cat
X-WR-TIMEZONE:Europe/Madrid
DESCRIPTION:A Can Lletres.
11 h Casalet (de p3 a p5)
12 h Casal (primària)
13 h Estiu Jove (ESO)
URI:https://www.llinarsdelvalles.cat/actualitat/agenda/reunions-informatives-del-casal-destiu-060518.html
CLASS:PUBLIC
END:VEVENT
END:VCALENDAR
