BEGIN:VCALENDAR
VERSION:2.0
CALSCALE:GREGORIAN
PRODID:-//Diputació de Barcelona//DibaCMS//EN
BEGIN:VEVENT
UID:53874
DTSTAMP:20260426T041356
DTSTART:20180505T113000
DTEND:20180505T113000
SUMMARY:STORY TIME - Miss Daisy & Martina present "The enormous carrot" a càrrec de la CIA Patawa
LOCATION:Av. Pau Casals, 26 08450 Llinars del Vallès
METHOD:PUBLISH
X-WR-CALNAME:info@llinarsdelvalles.cat
X-WR-TIMEZONE:Europe/Madrid
DESCRIPTION:A la Biblioteca
URI:https://www.llinarsdelvalles.cat/actualitat/agenda/story-time-miss-daisy-and-martina-present-the-enormous-carrot-a-carrec-de-la-cia-patawa.html
CLASS:PUBLIC
END:VEVENT
END:VCALENDAR
