BEGIN:VCALENDAR
VERSION:2.0
CALSCALE:GREGORIAN
PRODID:-//Diputació de Barcelona//DibaCMS//EN
BEGIN:VEVENT
UID:53875
DTSTAMP:20260426T041229
DTSTART:20180506T080000
DTEND:20180506T080000
SUMMARY:2a TROBADA DE COTXES CLÀSSICS
LOCATION:
METHOD:PUBLISH
X-WR-CALNAME:info@llinarsdelvalles.cat
X-WR-TIMEZONE:Europe/Madrid
DESCRIPTION:Al carrer de Frederic Marés
URI:https://www.llinarsdelvalles.cat/actualitat/agenda/2a-trobada-de-cotxes-classics.html
CLASS:PUBLIC
END:VEVENT
END:VCALENDAR
