BEGIN:VCALENDAR
VERSION:2.0
CALSCALE:GREGORIAN
PRODID:-//Diputació de Barcelona//DibaCMS//EN
BEGIN:VEVENT
UID:53876
DTSTAMP:20260426T002303
DTSTART:20180511T180000
DTEND:20180511T180000
SUMMARY:BIB-CREA "Llinars Vila Florida" a càrrec d'Oriol Fornell, jardiner
LOCATION:Av. Pau Casals, 26 08450 Llinars del Vallès
METHOD:PUBLISH
X-WR-CALNAME:info@llinarsdelvalles.cat
X-WR-TIMEZONE:Europe/Madrid
DESCRIPTION:A la Biblioteca
URI:https://www.llinarsdelvalles.cat/actualitat/agenda/2018-05-11-bib-crea-llinars-vila-florida-a-carrec-doriol-fornell-jardiner.html
CLASS:PUBLIC
END:VEVENT
END:VCALENDAR
