BEGIN:VCALENDAR
VERSION:2.0
CALSCALE:GREGORIAN
PRODID:-//Diputació de Barcelona//DibaCMS//EN
BEGIN:VEVENT
UID:53877
DTSTAMP:20260425T230103
DTSTART:20180519T120000
DTEND:20180519T120000
SUMMARY:CLUB DE LECTURA. GRUP A "Kafka a la platja" de Haruki Murakami a càrrec de José Luis Ibáñez
LOCATION:Av. Pau Casals, 26 08450 Llinars del Vallès
METHOD:PUBLISH
X-WR-CALNAME:info@llinarsdelvalles.cat
X-WR-TIMEZONE:Europe/Madrid
DESCRIPTION:De 12 a 13.30 h a la Biblioteca
URI:https://www.llinarsdelvalles.cat/actualitat/agenda/club-de-lectura-grup-a-kafka-a-la-platja-de-haruki-murakami-a-carrec-de-jose-luis-ibanez.html
CLASS:PUBLIC
END:VEVENT
END:VCALENDAR
