BEGIN:VCALENDAR
VERSION:2.0
CALSCALE:GREGORIAN
PRODID:-//Diputació de Barcelona//DibaCMS//EN
BEGIN:VEVENT
UID:53878
DTSTAMP:20260426T041722
DTSTART:20180512T170000
DTEND:20180512T170000
SUMMARY:TROBADA DE BESTIARI DE FOC 2018
LOCATION:
METHOD:PUBLISH
X-WR-CALNAME:info@llinarsdelvalles.cat
X-WR-TIMEZONE:Europe/Madrid
DESCRIPTION:A la plaça dels Països Catalans
URI:https://www.llinarsdelvalles.cat/actualitat/agenda/2018-05-12-trobada-de-bestiari-de-foc-2018.html
CLASS:PUBLIC
END:VEVENT
END:VCALENDAR
