BEGIN:VCALENDAR
VERSION:2.0
CALSCALE:GREGORIAN
PRODID:-//Diputació de Barcelona//DibaCMS//EN
BEGIN:VEVENT
UID:53879
DTSTAMP:20260425T224340
DTSTART:20180512T180000
DTEND:20180512T180000
SUMMARY:6a MOSTRA DE CANT CORAL AL TEATRE AUDITORI a càrrec de la Coral Turó del Vent
LOCATION:Ronda Sant Antoni, 19 08450 Llinars del Vallès
METHOD:PUBLISH
X-WR-CALNAME:info@llinarsdelvalles.cat
X-WR-TIMEZONE:Europe/Madrid
DESCRIPTION:Al Teatre Auditori
URI:https://www.llinarsdelvalles.cat/actualitat/agenda/6a-mostra-de-cant-coral-al-teatre-auditori-a-carrec-de-la-coral-turo-del-vent.html
CLASS:PUBLIC
END:VEVENT
END:VCALENDAR
