BEGIN:VCALENDAR
VERSION:2.0
CALSCALE:GREGORIAN
PRODID:-//Diputació de Barcelona//DibaCMS//EN
BEGIN:VEVENT
UID:53880
DTSTAMP:20260426T025129
DTSTART:20180513T100000
DTEND:20180513T100000
SUMMARY:TROBADA GEGANTERA 2018
LOCATION:
METHOD:PUBLISH
X-WR-CALNAME:info@llinarsdelvalles.cat
X-WR-TIMEZONE:Europe/Madrid
DESCRIPTION:A partir de les 10 h
A la plaça de Damià Mateu i a la plaça dels Països Catalans
URI:https://www.llinarsdelvalles.cat/actualitat/agenda/trobada-gegantera-2018.html
CLASS:PUBLIC
END:VEVENT
END:VCALENDAR
