BEGIN:VCALENDAR
VERSION:2.0
CALSCALE:GREGORIAN
PRODID:-//Diputació de Barcelona//DibaCMS//EN
BEGIN:VEVENT
UID:53882
DTSTAMP:20260426T002035
DTSTART:20180517T200000
DTEND:20180517T200000
SUMMARY:XERRADA PER A LES FAMÍLIES "Com afronatr les emocions dels nostres fills/es?
LOCATION:C/ Josep Argila, 39 08450 Llinars del Vallés
METHOD:PUBLISH
X-WR-CALNAME:info@llinarsdelvalles.cat
X-WR-TIMEZONE:Europe/Madrid
DESCRIPTION:A Can Lletres
URI:https://www.llinarsdelvalles.cat/actualitat/agenda/2018-05-17-xerrada-per-a-les-families-com-afronatr-les-emocions-dels-nostres-fillses.html
CLASS:PUBLIC
END:VEVENT
END:VCALENDAR
