BEGIN:VCALENDAR
VERSION:2.0
CALSCALE:GREGORIAN
PRODID:-//Diputació de Barcelona//DibaCMS//EN
BEGIN:VEVENT
UID:53883
DTSTAMP:20260426T013312
DTSTART:20180518T190000
DTEND:20180518T190000
SUMMARY:BIB-ART "Llinars Vila Florida" taller de jardineria per adults a càrrec d'Oriol Fornell, jardiner
LOCATION:
METHOD:PUBLISH
X-WR-CALNAME:info@llinarsdelvalles.cat
X-WR-TIMEZONE:Europe/Madrid
DESCRIPTION:A la Biblioteca
URI:https://www.llinarsdelvalles.cat/actualitat/agenda/2018-05-18-bib-art-llinars-vila-florida-taller-de-jardineria-per-adults-a-carrec-doriol-fornell-jardiner.html
CLASS:PUBLIC
END:VEVENT
END:VCALENDAR
