BEGIN:VCALENDAR
VERSION:2.0
CALSCALE:GREGORIAN
PRODID:-//Diputació de Barcelona//DibaCMS//EN
BEGIN:VEVENT
UID:53885
DTSTAMP:20260425T224418
DTSTART:20180519T103000
DTEND:20180519T103000
SUMMARY:CLUB DE LECTURA. GRUP B "Kafka a la platja" de Haruki Murakami a càrrec de José Luis Ibáñez
LOCATION:Av. Pau Casals, 26 08450 Llinars del Vallès
METHOD:PUBLISH
X-WR-CALNAME:info@llinarsdelvalles.cat
X-WR-TIMEZONE:Europe/Madrid
DESCRIPTION:De 10.30 a 12.30 h a la Biblioteca
URI:https://www.llinarsdelvalles.cat/actualitat/agenda/2018-05-19-club-de-lectura-grup-b-kafka-a-la-platja-de-haruki-murakami-a-carrec-de-jose-luis-ibanez.html
CLASS:PUBLIC
END:VEVENT
END:VCALENDAR
