BEGIN:VCALENDAR
VERSION:2.0
CALSCALE:GREGORIAN
PRODID:-//Diputació de Barcelona//DibaCMS//EN
BEGIN:VEVENT
UID:53886
DTSTAMP:20260426T041320
DTSTART:20180519T103000
DTEND:20180519T103000
SUMMARY:TALLER FAMILIAR "Decorem les finestres de primavera"
LOCATION:
METHOD:PUBLISH
X-WR-CALNAME:info@llinarsdelvalles.cat
X-WR-TIMEZONE:Europe/Madrid
DESCRIPTION:A Can Lletres
URI:https://www.llinarsdelvalles.cat/actualitat/agenda/2018-05-19-taller-familiar-decorem-les-finestres-de-primavera.html
CLASS:PUBLIC
END:VEVENT
END:VCALENDAR
