BEGIN:VCALENDAR
VERSION:2.0
CALSCALE:GREGORIAN
PRODID:-//Diputació de Barcelona//DibaCMS//EN
BEGIN:VEVENT
UID:53891
DTSTAMP:20260425T212600
DTSTART:20180511T170000
DTEND:20180511T170000
SUMMARY:VINE A DONAR SANG
LOCATION:
METHOD:PUBLISH
X-WR-CALNAME:info@llinarsdelvalles.cat
X-WR-TIMEZONE:Europe/Madrid
DESCRIPTION:De 17 a 21 h a Can Lletres
URI:https://www.llinarsdelvalles.cat/actualitat/agenda/2018-05-11-vine-a-donar-sang.html
CLASS:PUBLIC
END:VEVENT
END:VCALENDAR
