BEGIN:VCALENDAR
VERSION:2.0
CALSCALE:GREGORIAN
PRODID:-//Diputació de Barcelona//DibaCMS//EN
BEGIN:VEVENT
UID:53893
DTSTAMP:20260426T025240
DTSTART:20180512T100000
DTEND:20180512T100000
SUMMARY:PASSEJADES 2018 Parc Montnegre i Corredor "A la descoberta de les plantes remeieres"
LOCATION:
METHOD:PUBLISH
X-WR-CALNAME:info@llinarsdelvalles.cat
X-WR-TIMEZONE:Europe/Madrid
DESCRIPTION:Punt de trobada: Ajuntament de Llinars a les 10 h
URI:https://www.llinarsdelvalles.cat/actualitat/agenda/passejades-2018-parc-montnegre-i-corredor-a-la-descoberta-de-les-plantes-remeieres.html
CLASS:PUBLIC
END:VEVENT
END:VCALENDAR
