BEGIN:VCALENDAR
VERSION:2.0
CALSCALE:GREGORIAN
PRODID:-//Diputació de Barcelona//DibaCMS//EN
BEGIN:VEVENT
UID:53930
DTSTAMP:20260425T225609
DTSTART:20180712T200000
DTEND:20180712T200000
SUMMARY:TAULA RODONA "La convivència en el medi natural"
LOCATION:C/ Josep Argila, 39 08450 Llinars del Vallés
METHOD:PUBLISH
X-WR-CALNAME:info@llinarsdelvalles.cat
X-WR-TIMEZONE:Europe/Madrid
DESCRIPTION:
URI:https://www.llinarsdelvalles.cat/actualitat/agenda/taula-rodona-la-convivencia-en-el-medi-natural.html
CLASS:PUBLIC
END:VEVENT
END:VCALENDAR
