BEGIN:VCALENDAR
VERSION:2.0
CALSCALE:GREGORIAN
PRODID:-//Diputació de Barcelona//DibaCMS//EN
BEGIN:VEVENT
UID:53964
DTSTAMP:20260425T225116
DTSTART:20180713T210000
DTEND:20180713T210000
SUMMARY:II Passejada nocturna
LOCATION:
METHOD:PUBLISH
X-WR-CALNAME:info@llinarsdelvalles.cat
X-WR-TIMEZONE:Europe/Madrid
DESCRIPTION:
URI:https://www.llinarsdelvalles.cat/actualitat/agenda/ii-passejada-nocturna.html
CLASS:PUBLIC
END:VEVENT
END:VCALENDAR
