BEGIN:VCALENDAR
VERSION:2.0
CALSCALE:GREGORIAN
PRODID:-//Diputació de Barcelona//DibaCMS//EN
BEGIN:VEVENT
UID:53965
DTSTAMP:20260426T025635
DTSTART:20180714T170000
DTEND:20180714T170000
SUMMARY:Festa Holi
LOCATION:A la Riera de Llinars 
METHOD:PUBLISH
X-WR-CALNAME:info@llinarsdelvalles.cat
X-WR-TIMEZONE:Europe/Madrid
DESCRIPTION:
URI:https://www.llinarsdelvalles.cat/actualitat/agenda/53965-festa-holi.html
CLASS:PUBLIC
END:VEVENT
END:VCALENDAR
