BEGIN:VCALENDAR
VERSION:2.0
CALSCALE:GREGORIAN
PRODID:-//Diputació de Barcelona//DibaCMS//EN
BEGIN:VEVENT
UID:53967
DTSTAMP:20260426T042106
DTSTART:20180710T000000
DTEND:20180710T000000
SUMMARY:Cicle de concerts a Sanata "East and west side story"
LOCATION:Ronda Sant Antoni, 19 08450 Llinars del Vallès
METHOD:PUBLISH
X-WR-CALNAME:info@llinarsdelvalles.cat
X-WR-TIMEZONE:Europe/Madrid
DESCRIPTION:
URI:https://www.llinarsdelvalles.cat/actualitat/agenda/cicle-de-concerts-a-sanata-east-and-west-side-story.html
CLASS:PUBLIC
END:VEVENT
END:VCALENDAR
