BEGIN:VCALENDAR
VERSION:2.0
CALSCALE:GREGORIAN
PRODID:-//Diputació de Barcelona//DibaCMS//EN
BEGIN:VEVENT
UID:53968
DTSTAMP:20260426T001140
DTSTART:20180710T120000
DTEND:20180710T120000
SUMMARY:Cicle de concerts a Sanata "East and west side story"
LOCATION:Ronda Sant Antoni, 19 08450 Llinars del Vallès
METHOD:PUBLISH
X-WR-CALNAME:info@llinarsdelvalles.cat
X-WR-TIMEZONE:Europe/Madrid
DESCRIPTION:Amb Daniel Ligorio Ferrándiz al piano

URI:https://www.llinarsdelvalles.cat/actualitat/agenda/53968-cicle-de-concerts-a-sanata-east-and-west-side-story.html
CLASS:PUBLIC
END:VEVENT
END:VCALENDAR
