BEGIN:VCALENDAR
VERSION:2.0
CALSCALE:GREGORIAN
PRODID:-//Diputació de Barcelona//DibaCMS//EN
BEGIN:VEVENT
UID:53970
DTSTAMP:20260426T042207
DTSTART:20180720T220000
DTEND:20180720T220000
SUMMARY:Cinema a la fresca amb la pel·lícula "COCO"
LOCATION:C/ Josep Argila, 39 08450 Llinars del Vallés
METHOD:PUBLISH
X-WR-CALNAME:info@llinarsdelvalles.cat
X-WR-TIMEZONE:Europe/Madrid
DESCRIPTION:
URI:https://www.llinarsdelvalles.cat/actualitat/agenda/cinema-a-la-fresca-amb-la-pellicula-coco.html
CLASS:PUBLIC
END:VEVENT
END:VCALENDAR
