BEGIN:VCALENDAR
VERSION:2.0
CALSCALE:GREGORIAN
PRODID:-//Diputació de Barcelona//DibaCMS//EN
BEGIN:VEVENT
UID:53971
DTSTAMP:20260425T225248
DTSTART:20180721T220000
DTEND:20180721T220000
SUMMARY:Música en directe del 80, 90 i 00 amb Queens of the night i disco
LOCATION:C/ Mas Bagà, 24 08450 Llinars del Vallés
METHOD:PUBLISH
X-WR-CALNAME:info@llinarsdelvalles.cat
X-WR-TIMEZONE:Europe/Madrid
DESCRIPTION:
URI:https://www.llinarsdelvalles.cat/actualitat/agenda/musica-en-directe-del-80-90-i-00-amb-queens-of-the-night-i-disco.html
CLASS:PUBLIC
END:VEVENT
END:VCALENDAR
