BEGIN:VCALENDAR
VERSION:2.0
CALSCALE:GREGORIAN
PRODID:-//Diputació de Barcelona//DibaCMS//EN
BEGIN:VEVENT
UID:53972
DTSTAMP:20260425T225146
DTSTART:20180722T183000
DTEND:20180722T183000
SUMMARY:Animació "Refrescaxof!"
LOCATION:A la plaça dels Països Catalans 
METHOD:PUBLISH
X-WR-CALNAME:info@llinarsdelvalles.cat
X-WR-TIMEZONE:Europe/Madrid
DESCRIPTION:amb remullada final a càrrec de 3/4 de 15

URI:https://www.llinarsdelvalles.cat/actualitat/agenda/animacio-refrescaxof.html
CLASS:PUBLIC
END:VEVENT
END:VCALENDAR
