BEGIN:VCALENDAR
VERSION:2.0
CALSCALE:GREGORIAN
PRODID:-//Diputació de Barcelona//DibaCMS//EN
BEGIN:VEVENT
UID:53973
DTSTAMP:20260425T225040
DTSTART:20180722T200000
DTEND:20180722T200000
SUMMARY:"Poemes d'amor entre els arbres"
LOCATION:C/ Josep Argila, 39 08450 Llinars del Vallés
METHOD:PUBLISH
X-WR-CALNAME:info@llinarsdelvalles.cat
X-WR-TIMEZONE:Europe/Madrid
DESCRIPTION:
URI:https://www.llinarsdelvalles.cat/actualitat/agenda/poemes-damor-entre-els-arbres.html
CLASS:PUBLIC
END:VEVENT
END:VCALENDAR
