BEGIN:VCALENDAR
VERSION:2.0
CALSCALE:GREGORIAN
PRODID:-//Diputació de Barcelona//DibaCMS//EN
BEGIN:VEVENT
UID:53975
DTSTAMP:20260426T013424
DTSTART:20180804T210000
DTEND:20180805T230000
SUMMARY:Festa Major de Sant Esteve del Coll
LOCATION:Plaça de la Parròquia de Sant Esteve del Coll 
METHOD:PUBLISH
X-WR-CALNAME:info@llinarsdelvalles.cat
X-WR-TIMEZONE:Europe/Madrid
DESCRIPTION:
URI:https://www.llinarsdelvalles.cat/actualitat/agenda/53975-festa-major-de-sant-esteve-del-coll.html
CLASS:PUBLIC
END:VEVENT
END:VCALENDAR
