BEGIN:VCALENDAR
VERSION:2.0
CALSCALE:GREGORIAN
PRODID:-//Diputació de Barcelona//DibaCMS//EN
BEGIN:VEVENT
UID:53976
DTSTAMP:20260426T041934
DTSTART:20180831T220000
DTEND:20180831T220000
SUMMARY:Cinema a la fresca amb la pel·lícula "El gran showman"
LOCATION:Av. Pau Casals, 22-24 (Àrea central) 08450 Llinars del Vallès
METHOD:PUBLISH
X-WR-CALNAME:info@llinarsdelvalles.cat
X-WR-TIMEZONE:Europe/Madrid
DESCRIPTION:
URI:https://www.llinarsdelvalles.cat/actualitat/agenda/cinema-a-la-fresca-amb-la-pellicula-el-gran-showman.html
CLASS:PUBLIC
END:VEVENT
END:VCALENDAR
