BEGIN:VCALENDAR
VERSION:2.0
CALSCALE:GREGORIAN
PRODID:-//Diputació de Barcelona//DibaCMS//EN
BEGIN:VEVENT
UID:53983
DTSTAMP:20260426T042121
DTSTART:20180728T210000
DTEND:20180728T210000
SUMMARY:Taula Rodona sobre el personatge de Maria a la Passió de Llinars
LOCATION:Carrer de l'Església, 1 08450 Llinars del Vallès
METHOD:PUBLISH
X-WR-CALNAME:info@llinarsdelvalles.cat
X-WR-TIMEZONE:Europe/Madrid
DESCRIPTION:Aquesta taula rodona s'emmarca en una sèrie de conferències i xerrades entorn a la coronació de la Mare de Déu del Prat, que es durà a terme el 8 de setembre.

URI:https://www.llinarsdelvalles.cat/actualitat/agenda/taula-rodona-sobre-el-personatge-de-maria-a-la-passio-de-llinars.html
CLASS:PUBLIC
END:VEVENT
END:VCALENDAR
