BEGIN:VCALENDAR
VERSION:2.0
CALSCALE:GREGORIAN
PRODID:-//Diputació de Barcelona//DibaCMS//EN
BEGIN:VEVENT
UID:53987
DTSTAMP:20260426T001248
DTSTART:20180831T180000
DTEND:20180902T220000
SUMMARY:XIII Mostra gastronòmica
LOCATION:Carpa del carrer Frederic Marés i plaça dels Països Catalans 
METHOD:PUBLISH
X-WR-CALNAME:info@llinarsdelvalles.cat
X-WR-TIMEZONE:Europe/Madrid
DESCRIPTION:
URI:https://www.llinarsdelvalles.cat/actualitat/agenda/xiii-mostra-gastronomica.html
CLASS:PUBLIC
END:VEVENT
END:VCALENDAR
