BEGIN:VCALENDAR
VERSION:2.0
CALSCALE:GREGORIAN
PRODID:-//Diputació de Barcelona//DibaCMS//EN
BEGIN:VEVENT
UID:53990
DTSTAMP:20260426T013456
DTSTART:20180901T150000
DTEND:20180901T200000
SUMMARY:XVI Campionat de botifarra
LOCATION:C/ Ramon i Cajal - (cantonada Av. Granollers) 08450 Llinars del Vallés
METHOD:PUBLISH
X-WR-CALNAME:info@llinarsdelvalles.cat
X-WR-TIMEZONE:Europe/Madrid
DESCRIPTION:
URI:https://www.llinarsdelvalles.cat/actualitat/agenda/xvi-campionat-de-botifarra.html
CLASS:PUBLIC
END:VEVENT
END:VCALENDAR
