BEGIN:VCALENDAR
VERSION:2.0
CALSCALE:GREGORIAN
PRODID:-//Diputació de Barcelona//DibaCMS//EN
BEGIN:VEVENT
UID:53992
DTSTAMP:20260425T230205
DTSTART:20180901T170000
DTEND:20180901T170000
SUMMARY:Torneig de bàsquet de Festa Major "Memorial Xavi Alcaraz"
LOCATION:Av. Pau Casals, 18-20 (Àrea central) 08450 Llinars del Vallès
METHOD:PUBLISH
X-WR-CALNAME:info@llinarsdelvalles.cat
X-WR-TIMEZONE:Europe/Madrid
DESCRIPTION:
URI:https://www.llinarsdelvalles.cat/actualitat/agenda/torneig-de-basquet-de-festa-major-memorial-xavi-alcaraz.html
CLASS:PUBLIC
END:VEVENT
END:VCALENDAR
