BEGIN:VCALENDAR
VERSION:2.0
CALSCALE:GREGORIAN
PRODID:-//Diputació de Barcelona//DibaCMS//EN
BEGIN:VEVENT
UID:53994
DTSTAMP:20260425T225533
DTSTART:20180901T210000
DTEND:20180901T210000
SUMMARY:Pànik, passatge del terror
LOCATION:Plaça dels Països Catalans 
METHOD:PUBLISH
X-WR-CALNAME:info@llinarsdelvalles.cat
X-WR-TIMEZONE:Europe/Madrid
DESCRIPTION:
URI:https://www.llinarsdelvalles.cat/actualitat/agenda/53994-panik-passatge-del-terror.html
CLASS:PUBLIC
END:VEVENT
END:VCALENDAR
