BEGIN:VCALENDAR
VERSION:2.0
CALSCALE:GREGORIAN
PRODID:-//Diputació de Barcelona//DibaCMS//EN
BEGIN:VEVENT
UID:53995
DTSTAMP:20260426T013338
DTSTART:20180902T090000
DTEND:20180902T090000
SUMMARY:Torneig de billar triangular entre clubs 4 modalitats
LOCATION:C/ de Ravalet, 15-17 08450 Llinars del Vallès
METHOD:PUBLISH
X-WR-CALNAME:info@llinarsdelvalles.cat
X-WR-TIMEZONE:Europe/Madrid
DESCRIPTION:
URI:https://www.llinarsdelvalles.cat/actualitat/agenda/torneig-de-billar-triangular-entre-clubs-4-modalitats.html
CLASS:PUBLIC
END:VEVENT
END:VCALENDAR
