BEGIN:VCALENDAR
VERSION:2.0
CALSCALE:GREGORIAN
PRODID:-//Diputació de Barcelona//DibaCMS//EN
BEGIN:VEVENT
UID:53997
DTSTAMP:20260426T041833
DTSTART:20180902T110000
DTEND:20180902T190000
SUMMARY:Festa a la piscina amb inflables i una bola d'escalada
LOCATION:Avinguda del Mogent, 1-3 08450 Llinars del Vallès
METHOD:PUBLISH
X-WR-CALNAME:info@llinarsdelvalles.cat
X-WR-TIMEZONE:Europe/Madrid
DESCRIPTION:D'11 a 13.30 h i de 15 a 19 h

URI:https://www.llinarsdelvalles.cat/actualitat/agenda/festa-a-la-piscina-amb-inflables-i-una-bola-descalada.html
CLASS:PUBLIC
END:VEVENT
END:VCALENDAR
