BEGIN:VCALENDAR
VERSION:2.0
CALSCALE:GREGORIAN
PRODID:-//Diputació de Barcelona//DibaCMS//EN
BEGIN:VEVENT
UID:54000
DTSTAMP:20260425T230123
DTSTART:20180902T173000
DTEND:20180902T173000
SUMMARY:VII Homenatge a la vida, a la persona més gran i més jove de Llinars i desfilada de vestits de paper
LOCATION:Pavelló 1 d'octubre 
METHOD:PUBLISH
X-WR-CALNAME:info@llinarsdelvalles.cat
X-WR-TIMEZONE:Europe/Madrid
DESCRIPTION:
URI:https://www.llinarsdelvalles.cat/actualitat/agenda/vii-homenatge-a-la-vida-a-la-persona-mes-gran-i-mes-jove-de-llinars-i-desfilada-de-vestits-de-paper.html
CLASS:PUBLIC
END:VEVENT
END:VCALENDAR
