BEGIN:VCALENDAR
VERSION:2.0
CALSCALE:GREGORIAN
PRODID:-//Diputació de Barcelona//DibaCMS//EN
BEGIN:VEVENT
UID:54001
DTSTAMP:20260426T042000
DTSTART:20180906T160000
DTEND:20180906T160000
SUMMARY:Campionat intercasals de dòmino per parelles
LOCATION:C/ Ramon i Cajal - (cantonada Av. Granollers) 08450 Llinars del Vallés
METHOD:PUBLISH
X-WR-CALNAME:info@llinarsdelvalles.cat
X-WR-TIMEZONE:Europe/Madrid
DESCRIPTION:
URI:https://www.llinarsdelvalles.cat/actualitat/agenda/campionat-intercasals-de-domino-per-parelles.html
CLASS:PUBLIC
END:VEVENT
END:VCALENDAR
