BEGIN:VCALENDAR
VERSION:2.0
CALSCALE:GREGORIAN
PRODID:-//Diputació de Barcelona//DibaCMS//EN
BEGIN:VEVENT
UID:54002
DTSTAMP:20260426T041845
DTSTART:20180906T190000
DTEND:20180906T190000
SUMMARY:Taula Rodona "Santa Maria del Prat, Verge Coronada"
LOCATION:Av. Pau Casals, 26 08450 Llinars del Vallès
METHOD:PUBLISH
X-WR-CALNAME:info@llinarsdelvalles.cat
X-WR-TIMEZONE:Europe/Madrid
DESCRIPTION:
URI:https://www.llinarsdelvalles.cat/actualitat/agenda/taula-rodona-santa-maria-del-prat-verge-coronada.html
CLASS:PUBLIC
END:VEVENT
END:VCALENDAR
