BEGIN:VCALENDAR
VERSION:2.0
CALSCALE:GREGORIAN
PRODID:-//Diputació de Barcelona//DibaCMS//EN
BEGIN:VEVENT
UID:54003
DTSTAMP:20260425T192851
DTSTART:20180906T203000
DTEND:20180906T203000
SUMMARY:Passejada familiar nocturna entre blaus i vermells amb pintxo de botifarra 
LOCATION:Sortida de sde la plaça dels Països Catalans 
METHOD:PUBLISH
X-WR-CALNAME:info@llinarsdelvalles.cat
X-WR-TIMEZONE:Europe/Madrid
DESCRIPTION:
URI:https://www.llinarsdelvalles.cat/actualitat/agenda/passejada-familiar-nocturna-entre-blaus-i-vermells-amb-pintxo-de-botifarra-.html
CLASS:PUBLIC
END:VEVENT
END:VCALENDAR
