BEGIN:VCALENDAR
VERSION:2.0
CALSCALE:GREGORIAN
PRODID:-//Diputació de Barcelona//DibaCMS//EN
BEGIN:VEVENT
UID:54004
DTSTAMP:20260425T212632
DTSTART:20180907T120000
DTEND:20180911T233000
SUMMARY:Festa Major 2018
LOCATION:
METHOD:PUBLISH
X-WR-CALNAME:info@llinarsdelvalles.cat
X-WR-TIMEZONE:Europe/Madrid
DESCRIPTION:Consulteu el programa adjunt

URI:https://www.llinarsdelvalles.cat/actualitat/agenda/54004-festa-major-2018.html
CLASS:PUBLIC
END:VEVENT
END:VCALENDAR
